BEGIN:VCALENDAR
VERSION:2.0
PRODID:-//Bayernmän - ECPv6.15.15//NONSGML v1.0//EN
CALSCALE:GREGORIAN
METHOD:PUBLISH
X-WR-CALNAME:Bayernmän
X-ORIGINAL-URL:https://www.xn--bayernmn-6za.de
X-WR-CALDESC:Veranstaltungen für Bayernmän
REFRESH-INTERVAL;VALUE=DURATION:PT1H
X-Robots-Tag:noindex
X-PUBLISHED-TTL:PT1H
BEGIN:VTIMEZONE
TZID:Europe/Berlin
BEGIN:DAYLIGHT
TZOFFSETFROM:+0100
TZOFFSETTO:+0200
TZNAME:CEST
DTSTART:20250330T010000
END:DAYLIGHT
BEGIN:STANDARD
TZOFFSETFROM:+0200
TZOFFSETTO:+0100
TZNAME:CET
DTSTART:20251026T010000
END:STANDARD
BEGIN:DAYLIGHT
TZOFFSETFROM:+0100
TZOFFSETTO:+0200
TZNAME:CEST
DTSTART:20260329T010000
END:DAYLIGHT
BEGIN:STANDARD
TZOFFSETFROM:+0200
TZOFFSETTO:+0100
TZNAME:CET
DTSTART:20261025T010000
END:STANDARD
BEGIN:DAYLIGHT
TZOFFSETFROM:+0100
TZOFFSETTO:+0200
TZNAME:CEST
DTSTART:20270328T010000
END:DAYLIGHT
BEGIN:STANDARD
TZOFFSETFROM:+0200
TZOFFSETTO:+0100
TZNAME:CET
DTSTART:20271031T010000
END:STANDARD
END:VTIMEZONE
BEGIN:VEVENT
DTSTART;VALUE=DATE:20260425
DTEND;VALUE=DATE:20260426
DTSTAMP:20260424T142904
CREATED:20260128T065404Z
LAST-MODIFIED:20260403T071955Z
UID:1232-1777075200-1777161599@www.xn--bayernmn-6za.de
SUMMARY:Frühlingsvolksfest / 18:00 Uhr
DESCRIPTION:
URL:https://www.xn--bayernmn-6za.de/ternin/fruehlingsvolksfest-1930-uhr-2/
LOCATION:Festzelt SB Papert\, Bayernstrasse\, Nürnberg\, 90471\, Germany
END:VEVENT
BEGIN:VEVENT
DTSTART;VALUE=DATE:20260430
DTEND;VALUE=DATE:20260501
DTSTAMP:20260424T142904
CREATED:20260128T065716Z
LAST-MODIFIED:20260128T073328Z
UID:1234-1777507200-1777593599@www.xn--bayernmn-6za.de
SUMMARY:VDK-Frühlingsfest / 18:45 Uhr
DESCRIPTION:
URL:https://www.xn--bayernmn-6za.de/ternin/vdk-fruehlingsfest-1845-uhr/
LOCATION:Widmann Festzelt\, Festplatz Ackerloh\, Deggendorf\, 94469\, Germany
END:VEVENT
BEGIN:VEVENT
DTSTART;VALUE=DATE:20260509
DTEND;VALUE=DATE:20260510
DTSTAMP:20260424T142904
CREATED:20260128T070210Z
LAST-MODIFIED:20260128T070210Z
UID:1239-1778284800-1778371199@www.xn--bayernmn-6za.de
SUMMARY:Volksfest / 19:30 Uhr
DESCRIPTION:
URL:https://www.xn--bayernmn-6za.de/ternin/volksfest-1930-uhr/
LOCATION:Festzelt SonyBoy Papert\, Conrad-Röntgen-Str. 19\, Weiden\, 92637\, Germany
END:VEVENT
BEGIN:VEVENT
DTSTART;VALUE=DATE:20260516
DTEND;VALUE=DATE:20260517
DTSTAMP:20260424T142904
CREATED:20260128T070605Z
LAST-MODIFIED:20260128T071121Z
UID:1244-1778889600-1778975999@www.xn--bayernmn-6za.de
SUMMARY:Frühlingsvolksfest / 17:30 Uhr
DESCRIPTION:
URL:https://www.xn--bayernmn-6za.de/ternin/fruehlingsvolksfest-1730-uhr/
LOCATION:Festzelt Widmann\, Weissenburg\, 91781
END:VEVENT
BEGIN:VEVENT
DTSTART;VALUE=DATE:20260524
DTEND;VALUE=DATE:20260525
DTSTAMP:20260424T142904
CREATED:20260128T071554Z
LAST-MODIFIED:20260128T071554Z
UID:1247-1779580800-1779667199@www.xn--bayernmn-6za.de
SUMMARY:Maienfest / 20:30 Uhr
DESCRIPTION:
URL:https://www.xn--bayernmn-6za.de/ternin/maienfest-2030-uhr/
LOCATION:Festzelt\, Trennfurt\, 63911\, Germany
END:VEVENT
BEGIN:VEVENT
DTSTART;VALUE=DATE:20260526
DTEND;VALUE=DATE:20260527
DTSTAMP:20260424T142904
CREATED:20260128T072006Z
LAST-MODIFIED:20260128T072006Z
UID:1250-1779753600-1779839999@www.xn--bayernmn-6za.de
SUMMARY:Festzelt-Frühschoppen / 11:00 Uhr
DESCRIPTION:
URL:https://www.xn--bayernmn-6za.de/ternin/festzelt-fruehschoppen-1100-uhr/
LOCATION:Festzelt Weingärtner\, Fritzlar\, 34560\, Germany
END:VEVENT
BEGIN:VEVENT
DTSTART;VALUE=DATE:20260530
DTEND;VALUE=DATE:20260930
DTSTAMP:20260424T142904
CREATED:20260128T072452Z
LAST-MODIFIED:20260128T072452Z
UID:1254-1780099200-1790726399@www.xn--bayernmn-6za.de
SUMMARY:Sängerfest-Festzelt / 20:30 Uhr
DESCRIPTION:
URL:https://www.xn--bayernmn-6za.de/ternin/saengerfest-festzelt-2030-uhr/
LOCATION:Festzelt Dünebusch\, Bitzen-Dünebusch\, 57539\, Germany
END:VEVENT
BEGIN:VEVENT
DTSTART;VALUE=DATE:20260606
DTEND;VALUE=DATE:20260607
DTSTAMP:20260424T142904
CREATED:20260128T073802Z
LAST-MODIFIED:20260128T073802Z
UID:1261-1780704000-1780790399@www.xn--bayernmn-6za.de
SUMMARY:120 Jahre-Party / 21:00 Uhr
DESCRIPTION:
URL:https://www.xn--bayernmn-6za.de/ternin/120-jahre-party-2100-uhr/
LOCATION:Festhalle\, Am Bürgerhaus 7\, Cölbe\, 35091\, Germany
END:VEVENT
BEGIN:VEVENT
DTSTART;VALUE=DATE:20260612
DTEND;VALUE=DATE:20260613
DTSTAMP:20260424T142904
CREATED:20260326T072349Z
LAST-MODIFIED:20260326T072349Z
UID:1503-1781222400-1781308799@www.xn--bayernmn-6za.de
SUMMARY:Kirchweih / 20:00 Uhr
DESCRIPTION:
URL:https://www.xn--bayernmn-6za.de/ternin/kirchweih-2000-uhr/
LOCATION:Kirchweih-Festzelt Gruber\, Festzplatz\, Röthenbach a.d. Pegnitz\, 90552\, Germany
END:VEVENT
BEGIN:VEVENT
DTSTART;VALUE=DATE:20260613
DTEND;VALUE=DATE:20260614
DTSTAMP:20260424T142904
CREATED:20260306T081514Z
LAST-MODIFIED:20260403T070827Z
UID:1431-1781308800-1781395199@www.xn--bayernmn-6za.de
SUMMARY:Wasserwacht 60 Jahre / 20:00 Uhr
DESCRIPTION:
URL:https://www.xn--bayernmn-6za.de/ternin/in-bearbeitung/
LOCATION:Festzeltparty\, Veitshöchheim\, 97209\, Germany
END:VEVENT
BEGIN:VEVENT
DTSTART;VALUE=DATE:20260618
DTEND;VALUE=DATE:20260619
DTSTAMP:20260424T142904
CREATED:20260326T153519Z
LAST-MODIFIED:20260403T070938Z
UID:1507-1781740800-1781827199@www.xn--bayernmn-6za.de
SUMMARY:Firmenevent-Technologie Tage / 20:00 Uhr
DESCRIPTION:
URL:https://www.xn--bayernmn-6za.de/ternin/firmenevent-geschl-veranstaltung-2000-uhr/
LOCATION:Firmenevent\, Bobingen\, 86399\, Germany
END:VEVENT
BEGIN:VEVENT
DTSTART;VALUE=DATE:20260620
DTEND;VALUE=DATE:20260621
DTSTAMP:20260424T142904
CREATED:20260128T074231Z
LAST-MODIFIED:20260225T081450Z
UID:1270-1781913600-1781999999@www.xn--bayernmn-6za.de
SUMMARY:1050 Jahr-Feier / 20:30 Uhr
DESCRIPTION:
URL:https://www.xn--bayernmn-6za.de/ternin/1050-jahr-feier-sulzdorf/
LOCATION:Festzelt Sulzdorf\, Blätteräcker / Ladestraße\, Schwäbisch Hall -Sulzdorf\, 74523\, Germany
END:VEVENT
BEGIN:VEVENT
DTSTART;VALUE=DATE:20260626
DTEND;VALUE=DATE:20260627
DTSTAMP:20260424T142904
CREATED:20260424T073838Z
LAST-MODIFIED:20260424T073838Z
UID:1523-1782432000-1782518399@www.xn--bayernmn-6za.de
SUMMARY:Festzelt / 20:00 Uhr
DESCRIPTION:
URL:https://www.xn--bayernmn-6za.de/ternin/festzelt-2000-uhr/
LOCATION:Festzelt-Party\, Essfeld\, 97232\, Germany
END:VEVENT
BEGIN:VEVENT
DTSTART;VALUE=DATE:20260627
DTEND;VALUE=DATE:20260628
DTSTAMP:20260424T142904
CREATED:20260128T075303Z
LAST-MODIFIED:20260128T075303Z
UID:1273-1782518400-1782604799@www.xn--bayernmn-6za.de
SUMMARY:Schützenfest / 20:30 Uhr
DESCRIPTION:
URL:https://www.xn--bayernmn-6za.de/ternin/schuetzenfest-2030-uhr/
LOCATION:Festhalle Benfe\, Erndtebrück - Benfe\, 57339\, Germany
END:VEVENT
BEGIN:VEVENT
DTSTART;VALUE=DATE:20260629
DTEND;VALUE=DATE:20260630
DTSTAMP:20260424T142904
CREATED:20260128T075733Z
LAST-MODIFIED:20260128T075733Z
UID:1276-1782691200-1782777599@www.xn--bayernmn-6za.de
SUMMARY:Promenadenweinfest / 18:00 Uhr
DESCRIPTION:
URL:https://www.xn--bayernmn-6za.de/ternin/promenadenweinfest-1800-uhr/
LOCATION:Open-Air\, Unterer Mainkai\, Kitzingen\, 97318\, Germany
END:VEVENT
BEGIN:VEVENT
DTSTART;VALUE=DATE:20260702
DTEND;VALUE=DATE:20260703
DTSTAMP:20260424T142904
CREATED:20260225T081727Z
LAST-MODIFIED:20260225T081727Z
UID:1372-1782950400-1783036799@www.xn--bayernmn-6za.de
SUMMARY:86343 Königsbrunn / 20:00 Uhr
DESCRIPTION:
URL:https://www.xn--bayernmn-6za.de/ternin/86343-koenigsbrunn-2000-uhr/
END:VEVENT
BEGIN:VEVENT
DTSTART;VALUE=DATE:20260704
DTEND;VALUE=DATE:20260705
DTSTAMP:20260424T142904
CREATED:20260225T082320Z
LAST-MODIFIED:20260225T082744Z
UID:1374-1783123200-1783209599@www.xn--bayernmn-6za.de
SUMMARY:Schützenfest / 20:30 Uhr
DESCRIPTION:
URL:https://www.xn--bayernmn-6za.de/ternin/57610-altenkirchen-2030-uhr/
LOCATION:Festzelt\, Quengelstrasse / Weyerdamm\, Altenkirchen\, 57610\, Germany
END:VEVENT
BEGIN:VEVENT
DTSTART;VALUE=DATE:20260711
DTEND;VALUE=DATE:20260712
DTSTAMP:20260424T142904
CREATED:20260225T083739Z
LAST-MODIFIED:20260225T083739Z
UID:1381-1783728000-1783814399@www.xn--bayernmn-6za.de
SUMMARY:Festzeltgaudi / 20:00 Uhr
DESCRIPTION:
URL:https://www.xn--bayernmn-6za.de/ternin/festzeltgaudi-2000-uhr/
LOCATION:Festzelt Weingärtner\, Fritzlar\, 34560\, Germany
END:VEVENT
BEGIN:VEVENT
DTSTART;VALUE=DATE:20260713
DTEND;VALUE=DATE:20260714
DTSTAMP:20260424T142904
CREATED:20260225T083950Z
LAST-MODIFIED:20260225T083950Z
UID:1384-1783900800-1783987199@www.xn--bayernmn-6za.de
SUMMARY:Musikerfest / 20:00 Uhr
DESCRIPTION:
URL:https://www.xn--bayernmn-6za.de/ternin/musikerfest-2000-uhr/
LOCATION:Festzelt\, Trennfurt\, 63911\, Germany
END:VEVENT
BEGIN:VEVENT
DTSTART;VALUE=DATE:20260717
DTEND;VALUE=DATE:20260718
DTSTAMP:20260424T142904
CREATED:20260403T071524Z
LAST-MODIFIED:20260403T071543Z
UID:1514-1784246400-1784332799@www.xn--bayernmn-6za.de
SUMMARY:Firmenevent - Sommerfest / 19:00 Uhr
DESCRIPTION:
URL:https://www.xn--bayernmn-6za.de/ternin/firmenevent-sommerfest-1900-uhr/
LOCATION:Firmenevent Krankenhaus\, Schwarzenbruck\, 90592\, Germany
END:VEVENT
BEGIN:VEVENT
DTSTART;VALUE=DATE:20260718
DTEND;VALUE=DATE:20260719
DTSTAMP:20260424T142904
CREATED:20260225T084124Z
LAST-MODIFIED:20260225T084124Z
UID:1386-1784332800-1784419199@www.xn--bayernmn-6za.de
SUMMARY:Open Air / 20:00 Uhr
DESCRIPTION:
URL:https://www.xn--bayernmn-6za.de/ternin/open-air-2000-uhr/
LOCATION:Open Air\, Heilsbronn\, 91560\, Germany
END:VEVENT
BEGIN:VEVENT
DTSTART;VALUE=DATE:20260724
DTEND;VALUE=DATE:20260725
DTSTAMP:20260424T142904
CREATED:20260225T084256Z
LAST-MODIFIED:20260225T084256Z
UID:1389-1784851200-1784937599@www.xn--bayernmn-6za.de
SUMMARY:Jakobi Markt / 19:30 Uhr
DESCRIPTION:
URL:https://www.xn--bayernmn-6za.de/ternin/jakobi-markt-1930-uhr/
LOCATION:Festzelt Papert\, Marktheidenfeld\, 97837
END:VEVENT
BEGIN:VEVENT
DTSTART;VALUE=DATE:20260725
DTEND;VALUE=DATE:20260726
DTSTAMP:20260424T142904
CREATED:20260225T084449Z
LAST-MODIFIED:20260225T084449Z
UID:1391-1784937600-1785023999@www.xn--bayernmn-6za.de
SUMMARY:Festzeltgaudi / 20:30 Uhr
DESCRIPTION:
URL:https://www.xn--bayernmn-6za.de/ternin/festzeltgaudi-2030-uhr/
LOCATION:Festzelt an der Mühle\, Breidenbach\, 35236\, Germany
END:VEVENT
BEGIN:VEVENT
DTSTART;VALUE=DATE:20260726
DTEND;VALUE=DATE:20260731
DTSTAMP:20260424T142904
CREATED:20260320T104542Z
LAST-MODIFIED:20260320T104542Z
UID:1499-1785024000-1785455999@www.xn--bayernmn-6za.de
SUMMARY:Schlanitzer Alm - Club Aldiana
DESCRIPTION:
URL:https://www.xn--bayernmn-6za.de/ternin/schlanitzer-alm-club-aldiana/
LOCATION:Aldiana Club-Auftritte\, Hermagor\, Kärnten\, 9620\, Austria
END:VEVENT
BEGIN:VEVENT
DTSTART;VALUE=DATE:20260731
DTEND;VALUE=DATE:20260801
DTSTAMP:20260424T142904
CREATED:20260225T084717Z
LAST-MODIFIED:20260225T084717Z
UID:1394-1785456000-1785542399@www.xn--bayernmn-6za.de
SUMMARY:Annafest / 18:00 Uhr
DESCRIPTION:
URL:https://www.xn--bayernmn-6za.de/ternin/annafest-1800-uhr/
LOCATION:Greif-Keller\, Forchheim\, 91301\, Germany
END:VEVENT
BEGIN:VEVENT
DTSTART;VALUE=DATE:20260801
DTEND;VALUE=DATE:20260802
DTSTAMP:20260424T142904
CREATED:20260227T065645Z
LAST-MODIFIED:20260227T065645Z
UID:1399-1785542400-1785628799@www.xn--bayernmn-6za.de
SUMMARY:Weinfest Open-Air / 20:00 Uhr
DESCRIPTION:
URL:https://www.xn--bayernmn-6za.de/ternin/weinfest-open-air-2000-uhr/
LOCATION:Weinfest\, Sulzfeld\, 97320
END:VEVENT
BEGIN:VEVENT
DTSTART;VALUE=DATE:20260803
DTEND;VALUE=DATE:20260804
DTSTAMP:20260424T142904
CREATED:20260227T065836Z
LAST-MODIFIED:20260227T065836Z
UID:1402-1785715200-1785801599@www.xn--bayernmn-6za.de
SUMMARY:Kerb-Festzelt / 18:00 Uhr
DESCRIPTION:
URL:https://www.xn--bayernmn-6za.de/ternin/kerb-festzelt-1800-uhr/
LOCATION:Kerb\, Glanbrücken\, 66887
END:VEVENT
BEGIN:VEVENT
DTSTART;VALUE=DATE:20260807
DTEND;VALUE=DATE:20260808
DTSTAMP:20260424T142904
CREATED:20260227T070002Z
LAST-MODIFIED:20260227T070002Z
UID:1405-1786060800-1786147199@www.xn--bayernmn-6za.de
SUMMARY:Schützenfest meets Sommer-Wies´n / 20:00 Uhr
DESCRIPTION:
URL:https://www.xn--bayernmn-6za.de/ternin/schuetzenfest-meets-sommer-wiesn-2000-uhr/
LOCATION:Sommerwies´n\, Rietberg\, 33397
END:VEVENT
BEGIN:VEVENT
DTSTART;VALUE=DATE:20260808
DTEND;VALUE=DATE:20260809
DTSTAMP:20260424T142904
CREATED:20260227T070109Z
LAST-MODIFIED:20260227T070109Z
UID:1408-1786147200-1786233599@www.xn--bayernmn-6za.de
SUMMARY:Kirchweih Burschenschaft / 20:30 Uhr
DESCRIPTION:
URL:https://www.xn--bayernmn-6za.de/ternin/kirchweih-burschenschaft-2030-uhr/
LOCATION:Kirchweih\, Weifenbach\, 35216
END:VEVENT
BEGIN:VEVENT
DTSTART;VALUE=DATE:20260809
DTEND;VALUE=DATE:20260810
DTSTAMP:20260424T142904
CREATED:20260227T070142Z
LAST-MODIFIED:20260227T070142Z
UID:1411-1786233600-1786319999@www.xn--bayernmn-6za.de
SUMMARY:in Bearbeitung
DESCRIPTION:
URL:https://www.xn--bayernmn-6za.de/ternin/in-bearbeitung-7/
END:VEVENT
END:VCALENDAR